BEGIN:VCALENDAR
VERSION:2.0
PRODID:-//Training Heights - ECPv6.15.11//NONSGML v1.0//EN
CALSCALE:GREGORIAN
METHOD:PUBLISH
X-WR-CALNAME:Training Heights
X-ORIGINAL-URL:https://trainingheights.com
X-WR-CALDESC:Events for Training Heights
REFRESH-INTERVAL;VALUE=DURATION:PT1H
X-Robots-Tag:noindex
X-PUBLISHED-TTL:PT1H
BEGIN:VTIMEZONE
TZID:Africa/Lagos
BEGIN:STANDARD
TZOFFSETFROM:+0100
TZOFFSETTO:+0100
TZNAME:WAT
DTSTART:20250101T000000
END:STANDARD
END:VTIMEZONE
BEGIN:VEVENT
DTSTART;TZID=Africa/Lagos:20260504T000000
DTEND;TZID=Africa/Lagos:20260508T000000
DTSTAMP:20260424T151709
CREATED:20260409T101821Z
LAST-MODIFIED:20260409T114842Z
UID:6989-1777852800-1778198400@trainingheights.com
SUMMARY:CompTIA Security+
DESCRIPTION:What You Will Learn\n\nCybersecurity Fundamentals & Threat Landscape: Understand core security concepts\, common cyber threats\, attack vectors\, and how organizations protect systems\, networks\, and data.\nCybersecurity Fundamentals & Threat Landscape: Understand core security concepts\, common cyber threats\, attack vectors\, and how organizations protect systems\, networks\, and data.\nNetwork Security & Architecture: Learn how to design and secure network infrastructures using firewalls\, VPNs\, secure protocols\, and network segmentation.\nIdentity & Access Management (IAM): Gain skills in managing user identities\, authentication methods\, authorization controls\, and implementing least privilege principles.\nRisk Management & Compliance: Understand how to identify risks\, apply risk mitigation strategies\, and align security practices with policies\, standards\, and regulatory requirements.\nCryptography & Data Security: Learn the fundamentals of encryption\, hashing\, digital signatures\, and how cryptographic solutions protect data in transit and at rest.\nSecurity Operations & Monitoring: Develop the ability to monitor systems\, analyze logs\, detect threats\, and implement security tools to maintain operational security.\nIncident Response & Threat Management: Learn how to identify\, respond to\, and recover from security incidents\, including implementing incident response plans and procedures.\nIncident Response & Threat Management: Learn how to identify\, respond to\, and recover from security incidents\, including implementing incident response plans and procedures.\nVulnerability Management & Penetration Testing Basics: Understand how to identify vulnerabilities\, perform basic security assessments\, and apply remediation techniques.\n\nLimited Slots Available\nSecure your seat — limited availability \nWe keep class sizes small to ensure hands-on support and personalized feedback. \nSeats left: 12 \n📅 Happening on: May 04 – May 08\, 2025 \n⏳ Duration: 5 days • Live
URL:https://trainingheights.com/event/comptia-security/
CATEGORIES:Comptia
ATTACH;FMTTYPE=image/jpeg:https://trainingheights.com/wp-content/uploads/2026/04/CompTIA-Security-2.jpg
END:VEVENT
END:VCALENDAR